BEGIN:VCALENDAR
VERSION:2.0
PRODID:-//ChamberMaster//Event Calendar 2.0//EN
METHOD:PUBLISH
X-PUBLISHED-TTL:P1H
REFRESH-INTERVAL:P1H
CALSCALE:GREGORIAN
BEGIN:VTIMEZONE
TZID:America/Toronto
BEGIN:DAYLIGHT
RRULE:FREQ=YEARLY;BYMONTH=3;BYDAY=2SU
DTSTART:20070101T000000
TZOFFSETFROM:-0500
TZOFFSETTO:-0400
TZNAME:Eastern Daylight Time
END:DAYLIGHT
BEGIN:STANDARD
RRULE:FREQ=YEARLY;BYMONTH=11;BYDAY=1SU
DTSTART:20070101T000000
TZOFFSETFROM:-0400
TZOFFSETTO:-0500
TZNAME:Eastern Standard Time
END:STANDARD
END:VTIMEZONE
BEGIN:VEVENT
DTSTART;TZID=America/Toronto:20260501T080000
DTEND;TZID=America/Toronto:20260503T150000
X-MICROSOFT-CDO-ALLDAYEVENT:FALSE
SUMMARY:BuildersCare Project #1 – 432 N. Pleasant St.
DESCRIPTION:BuildersCare Project #1   432 N. Pleasant St.The Home Builders Association of Jackson\, Hillsdale & Lenawee will complete BuildersCare Project #1 May 1 3 at 432 N. Pleasant St. in Jackson.This project focuses on Maryann Schroeder\, an 80-year-old\, 33-year resident who takes great pride in her home. HBA members will come together to complete meaningful improvements that enhance safety\, accessibility\, and curb appeal.Planned work includes landscaping\, tree trimming\, exterior updates\, and improvements to the front steps.Members are encouraged to volunteer for a few hours or the full weekend.View Project Photos:\nhttps://photos.app.goo.gl/pePDKJkJictgbVJh7*Also taking place May 1 3: the Community Curb Appeal Project will cover two full blocks of N. Pleasant St.\, focusing on exterior improvements from the front of the residence to the curb.
X-ALT-DESC;FMTTYPE=text/html:<!DOCTYPE html><html><head><title></title></head><body aria-disabled="false"><div data-scroll-from-top="" data-scroll-root=""><main><section data-scroll-anchor="true" data-testid="conversation-turn-58" data-turn="assistant" data-turn-id="request-69b839ff-109c-832c-a466-4f076a913249-11" dir="auto"><div data-message-author-role="assistant" data-message-id="cb7ce8e2-4683-4c5b-b6ee-67131efaee6b" data-message-model-slug="gpt-5-3" data-turn-start-message="true" dir="auto" tabindex="0"><p data-end="109" data-start="60"><strong data-end="109" data-start="60" fr-original-style="" style="font-weight: 700\;">BuildersCare Project #1 &ndash\; 432 N. Pleasant St.</strong></p><p data-end="261" data-start="111">The <strong data-end="176" data-start="115" fr-original-style="" style="font-weight: 700\;">Home Builders Association of Jackson\, Hillsdale &amp\; Lenawee</strong> will complete <strong data-end="261" data-start="191" fr-original-style="" style="font-weight: 700\;">BuildersCare Project #1 May 1&ndash\;3 at 432 N. Pleasant St. in Jackson.</strong></p><p data-end="497" data-start="263">This project focuses on <strong data-end="342" data-start="287" fr-original-style="" style="font-weight: 700\;">Maryann Schroeder\, an 80-year-old\, 33-year resident</strong> who takes great pride in her home. HBA members will come together to complete meaningful improvements that enhance safety\, accessibility\, and curb appeal.</p><p data-end="603" data-start="499">Planned work includes landscaping\, tree trimming\, exterior updates\, and improvements to the front steps.</p><p data-end="677" data-start="605">Members are encouraged to volunteer for a few hours or the full weekend.</p><p data-end="749" data-start="679"><strong data-end="703" data-start="679" fr-original-style="" style="font-weight: 700\;">View Project Photos:</strong><br data-start="703" data-end="706"><a data-end="749" data-start="706" fr-original-style="" href="https://photos.app.goo.gl/pePDKJkJictgbVJh7" rel="noopener" style="user-select: auto\;" target="_new">https://photos.app.goo.gl/pePDKJkJictgbVJh7</a></p><p data-end="939" data-is-last-node="" data-is-only-node="" data-start="751">*Also taking place May 1&ndash\;3: the Community Curb Appeal Project will cover two full blocks of N. Pleasant St.\, focusing on exterior improvements from the front of the residence to the curb.</p></div></section><div aria-hidden="true" data-edge="true"><br></div></main></div><div data-stage-thread-flyout="true" data-testid="stage-thread-flyout" data-thread-flyout-preset="clamped"><section aria-label="Entity details" data-primary-scroller="true" data-testid="screen-threadFlyOut"><div data-message-author-role="assistant" data-message-id="b31009f3-f565-469c-9872-b96fb0de927c"><h2 data-end="57" data-section-id="1axetcj" data-start="41"><br></h2></div></section></div></body></html>
LOCATION:432 N. Pleasant St. Jackson
UID:e.2973.1421640
SEQUENCE:3
DTSTAMP:20260421T114047Z
URL:https://members.hbaofjacksonmichigan.com/events/Details/builderscare-project-1-432-n-pleasant-st-1680966?sourceTypeId=Hub
END:VEVENT
END:VCALENDAR
