BEGIN:VCALENDAR
VERSION:2.0
PRODID:-//ChamberMaster//Event Calendar 2.0//EN
METHOD:PUBLISH
X-PUBLISHED-TTL:P1H
REFRESH-INTERVAL:P1H
CALSCALE:GREGORIAN
BEGIN:VTIMEZONE
TZID:America/Toronto
BEGIN:DAYLIGHT
RRULE:FREQ=YEARLY;BYMONTH=3;BYDAY=2SU
DTSTART:20070101T000000
TZOFFSETFROM:-0500
TZOFFSETTO:-0400
TZNAME:Eastern Daylight Time
END:DAYLIGHT
BEGIN:STANDARD
RRULE:FREQ=YEARLY;BYMONTH=11;BYDAY=1SU
DTSTART:20070101T000000
TZOFFSETFROM:-0400
TZOFFSETTO:-0500
TZNAME:Eastern Standard Time
END:STANDARD
END:VTIMEZONE
BEGIN:VEVENT
DTSTART;TZID=America/Toronto:20260507T090000
DTEND;TZID=America/Toronto:20260507T110000
X-MICROSOFT-CDO-ALLDAYEVENT:FALSE
SUMMARY:Build Your Future Career - Lenawee
DESCRIPTION:The Build Your Future Career Event is a two-hour opportunity for Lenawee County students to connect directly with local builders\, contractors\, and skilled trades professionals.\n\nStudents will meet one-on-one with companies to discuss summer employment\, entry-level roles\, and future career opportunities in the residential building industry.\n\nFor participating companies\, this event provides direct access to students who are exploring hands-on career paths and looking to enter the workforce.\n\nThis focused\, time-efficient format is designed to create meaningful conversations and real connections between students and local employers.
X-ALT-DESC;FMTTYPE=text/html:The Build Your Future Career Event is a two-hour opportunity for Lenawee County students to connect directly with local builders\, contractors\, and skilled trades professionals.\n\nStudents will meet one-on-one with companies to discuss summer employment\, entry-level roles\, and future career opportunities in the residential building industry.\n\nFor participating companies\, this event provides direct access to students who are exploring hands-on career paths and looking to enter the workforce.\n\nThis focused\, time-efficient format is designed to create meaningful conversations and real connections between students and local employers.
LOCATION:1372 N Main St. Adrian 49221
UID:e.2973.1437353
SEQUENCE:3
DTSTAMP:20260421T115823Z
URL:https://members.hbaofjacksonmichigan.com/events/Details/build-your-future-career-lenawee-1701293?sourceTypeId=Hub
END:VEVENT
END:VCALENDAR
