BEGIN:VCALENDAR
VERSION:2.0
PRODID:-//ChamberMaster//Event Calendar 2.0//EN
METHOD:PUBLISH
X-PUBLISHED-TTL:P1H
REFRESH-INTERVAL:P1H
CALSCALE:GREGORIAN
BEGIN:VTIMEZONE
TZID:America/Toronto
BEGIN:DAYLIGHT
RRULE:FREQ=YEARLY;BYMONTH=3;BYDAY=2SU
DTSTART:20070101T000000
TZOFFSETFROM:-0500
TZOFFSETTO:-0400
TZNAME:Eastern Daylight Time
END:DAYLIGHT
BEGIN:STANDARD
RRULE:FREQ=YEARLY;BYMONTH=11;BYDAY=1SU
DTSTART:20070101T000000
TZOFFSETFROM:-0400
TZOFFSETTO:-0500
TZNAME:Eastern Standard Time
END:STANDARD
END:VTIMEZONE
BEGIN:VEVENT
DTSTART;TZID=America/Toronto:20260501T090000
DTEND;TZID=America/Toronto:20260501T140000
X-MICROSOFT-CDO-ALLDAYEVENT:FALSE
SUMMARY:Build Your Future Career - Jackson Area Career Center
DESCRIPTION:The Build Your Future Career Event connects Jackson-area students with local builders\, contractors\, and industry professionals for a focused\, in-person opportunity to explore careers in the residential building industry.\n\nHeld at the Jackson Area Career Center\, this event is structured to allow meaningful conversations between students and businesses. Students will attend in two sessions\, 9:00 AM – 11:00 AM and 12:00 PM – 2:00 PM\, creating a steady flow of engagement throughout the day.\n\nParticipating companies will have the opportunity to meet directly with students\, discuss career paths\, highlight summer and entry-level opportunities\, and share what it takes to succeed in the trades and related industries.\n\nWhile the skilled trades are a primary focus\, participation is encouraged from all businesses connected to the residential building industry\, including suppliers\, financial institutions\, and service providers.\n\nLunch will be provided for participating members by the Career Center’s culinary students.\n\nThis event is designed to create direct connections between students and local employers while strengthening the future workforce in Jackson and the surrounding communities.
X-ALT-DESC;FMTTYPE=text/html:The Build Your Future Career Event connects Jackson-area students with local builders\, contractors\, and industry professionals for a focused\, in-person opportunity to explore careers in the residential building industry.\n\nHeld at the Jackson Area Career Center\, this event is structured to allow meaningful conversations between students and businesses. Students will attend in two sessions\, 9:00 AM – 11:00 AM and 12:00 PM – 2:00 PM\, creating a steady flow of engagement throughout the day.\n\nParticipating companies will have the opportunity to meet directly with students\, discuss career paths\, highlight summer and entry-level opportunities\, and share what it takes to succeed in the trades and related industries.\n\nWhile the skilled trades are a primary focus\, participation is encouraged from all businesses connected to the residential building industry\, including suppliers\, financial institutions\, and service providers.\n\nLunch will be provided for participating members by the Career Center’s culinary students.\n\nThis event is designed to create direct connections between students and local employers while strengthening the future workforce in Jackson and the surrounding communities.
LOCATION:6800 Browns Lake Rd Jackson MI 49201
UID:e.2973.1438877
SEQUENCE:3
DTSTAMP:20260421T120043Z
URL:https://members.hbaofjacksonmichigan.com/events/Details/build-your-future-career-jackson-area-career-center-1703076?sourceTypeId=Hub
END:VEVENT
END:VCALENDAR
